BEGIN:VCALENDAR
VERSION:2.0
PRODID:-//Current River - ECPv6.15.20//NONSGML v1.0//EN
CALSCALE:GREGORIAN
METHOD:PUBLISH
X-ORIGINAL-URL:https://currentrivercom.com
X-WR-CALDESC:Events for Current River
REFRESH-INTERVAL;VALUE=DURATION:PT1H
X-Robots-Tag:noindex
X-PUBLISHED-TTL:PT1H
BEGIN:VTIMEZONE
TZID:America/Halifax
BEGIN:DAYLIGHT
TZOFFSETFROM:-0400
TZOFFSETTO:-0300
TZNAME:ADT
DTSTART:20250309T060000
END:DAYLIGHT
BEGIN:STANDARD
TZOFFSETFROM:-0300
TZOFFSETTO:-0400
TZNAME:AST
DTSTART:20251102T050000
END:STANDARD
BEGIN:DAYLIGHT
TZOFFSETFROM:-0400
TZOFFSETTO:-0300
TZNAME:ADT
DTSTART:20260308T060000
END:DAYLIGHT
BEGIN:STANDARD
TZOFFSETFROM:-0300
TZOFFSETTO:-0400
TZNAME:AST
DTSTART:20261101T050000
END:STANDARD
BEGIN:DAYLIGHT
TZOFFSETFROM:-0400
TZOFFSETTO:-0300
TZNAME:ADT
DTSTART:20270314T060000
END:DAYLIGHT
BEGIN:STANDARD
TZOFFSETFROM:-0300
TZOFFSETTO:-0400
TZNAME:AST
DTSTART:20271107T050000
END:STANDARD
END:VTIMEZONE
BEGIN:VEVENT
DTSTART;TZID=America/Halifax:20260507T130000
DTEND;TZID=America/Halifax:20260507T170000
DTSTAMP:20260424T162712
CREATED:20260414T214019Z
LAST-MODIFIED:20260414T214019Z
UID:10000275-1778158800-1778173200@currentrivercom.com
SUMMARY:Superior Shores Bingo
DESCRIPTION:Come to Superior Shores Gaming Association for Bingo fun hosted by volunteers from the Current River Recreation Association! Our organization receives a portion of proceeds to put towards our children’s sports programs. \nWant to find out how to volunteer? Email us\, and we will be thrilled to get you started!
URL:https://currentrivercom.com/event/superior-shores-bingo/2026-05-07/
LOCATION:Superior Shores Gaming Association\, 435 Memorial Ave\, Thunder Bay\, Ontario\, P7B 3Y6\, Canada
END:VEVENT
BEGIN:VEVENT
DTSTART;TZID=America/Halifax:20260526T130000
DTEND;TZID=America/Halifax:20260526T170000
DTSTAMP:20260424T162712
CREATED:20260414T214019Z
LAST-MODIFIED:20260414T214019Z
UID:10000276-1779800400-1779814800@currentrivercom.com
SUMMARY:Superior Shores Bingo
DESCRIPTION:Come to Superior Shores Gaming Association for Bingo fun hosted by volunteers from the Current River Recreation Association! Our organization receives a portion of proceeds to put towards our children’s sports programs. \nWant to find out how to volunteer? Email us\, and we will be thrilled to get you started!
URL:https://currentrivercom.com/event/superior-shores-bingo/2026-05-26/
LOCATION:Superior Shores Gaming Association\, 435 Memorial Ave\, Thunder Bay\, Ontario\, P7B 3Y6\, Canada
END:VEVENT
BEGIN:VEVENT
DTSTART;TZID=America/Halifax:20260609T130000
DTEND;TZID=America/Halifax:20260609T170000
DTSTAMP:20260424T162712
CREATED:20260414T214019Z
LAST-MODIFIED:20260414T214019Z
UID:10000277-1781010000-1781024400@currentrivercom.com
SUMMARY:Superior Shores Bingo
DESCRIPTION:Come to Superior Shores Gaming Association for Bingo fun hosted by volunteers from the Current River Recreation Association! Our organization receives a portion of proceeds to put towards our children’s sports programs. \nWant to find out how to volunteer? Email us\, and we will be thrilled to get you started!
URL:https://currentrivercom.com/event/superior-shores-bingo/2026-06-09/
LOCATION:Superior Shores Gaming Association\, 435 Memorial Ave\, Thunder Bay\, Ontario\, P7B 3Y6\, Canada
END:VEVENT
BEGIN:VEVENT
DTSTART;TZID=America/Halifax:20260629T130000
DTEND;TZID=America/Halifax:20260629T170000
DTSTAMP:20260424T162712
CREATED:20260414T214019Z
LAST-MODIFIED:20260414T214019Z
UID:10000278-1782738000-1782752400@currentrivercom.com
SUMMARY:Superior Shores Bingo
DESCRIPTION:Come to Superior Shores Gaming Association for Bingo fun hosted by volunteers from the Current River Recreation Association! Our organization receives a portion of proceeds to put towards our children’s sports programs. \nWant to find out how to volunteer? Email us\, and we will be thrilled to get you started!
URL:https://currentrivercom.com/event/superior-shores-bingo/2026-06-29/
LOCATION:Superior Shores Gaming Association\, 435 Memorial Ave\, Thunder Bay\, Ontario\, P7B 3Y6\, Canada
END:VEVENT
END:VCALENDAR