BEGIN:VCALENDAR
VERSION:2.0
PRODID:-//Current River - ECPv6.15.20//NONSGML v1.0//EN
CALSCALE:GREGORIAN
METHOD:PUBLISH
X-WR-CALNAME:Current River
X-ORIGINAL-URL:https://currentrivercom.com
X-WR-CALDESC:Events for Current River
REFRESH-INTERVAL;VALUE=DURATION:PT1H
X-Robots-Tag:noindex
X-PUBLISHED-TTL:PT1H
BEGIN:VTIMEZONE
TZID:America/Halifax
BEGIN:DAYLIGHT
TZOFFSETFROM:-0400
TZOFFSETTO:-0300
TZNAME:ADT
DTSTART:20250309T060000
END:DAYLIGHT
BEGIN:STANDARD
TZOFFSETFROM:-0300
TZOFFSETTO:-0400
TZNAME:AST
DTSTART:20251102T050000
END:STANDARD
BEGIN:DAYLIGHT
TZOFFSETFROM:-0400
TZOFFSETTO:-0300
TZNAME:ADT
DTSTART:20260308T060000
END:DAYLIGHT
BEGIN:STANDARD
TZOFFSETFROM:-0300
TZOFFSETTO:-0400
TZNAME:AST
DTSTART:20261101T050000
END:STANDARD
BEGIN:DAYLIGHT
TZOFFSETFROM:-0400
TZOFFSETTO:-0300
TZNAME:ADT
DTSTART:20270314T060000
END:DAYLIGHT
BEGIN:STANDARD
TZOFFSETFROM:-0300
TZOFFSETTO:-0400
TZNAME:AST
DTSTART:20271107T050000
END:STANDARD
END:VTIMEZONE
BEGIN:VEVENT
DTSTART;TZID=America/Halifax:20260702T090000
DTEND;TZID=America/Halifax:20260702T104500
DTSTAMP:20260424T203925
CREATED:20260311T215459Z
LAST-MODIFIED:20260311T215459Z
UID:10000207-1782982800-1782989100@currentrivercom.com
SUMMARY:Parent & Tot Playgroup
DESCRIPTION:
URL:https://currentrivercom.com/event/parent-tot-playgroup-2/2026-07-02/
END:VEVENT
BEGIN:VEVENT
DTSTART;TZID=America/Halifax:20260706T093000
DTEND;TZID=America/Halifax:20260706T111500
DTSTAMP:20260424T203926
CREATED:20260311T212834Z
LAST-MODIFIED:20260311T212913Z
UID:10000048-1783330200-1783336500@currentrivercom.com
SUMMARY:Parent & Tot Playgroup
DESCRIPTION:
URL:https://currentrivercom.com/event/parent-tot-playgroup/2026-07-06/
END:VEVENT
BEGIN:VEVENT
DTSTART;TZID=America/Halifax:20260707T093000
DTEND;TZID=America/Halifax:20260707T111500
DTSTAMP:20260424T203926
CREATED:20260311T212834Z
LAST-MODIFIED:20260311T212913Z
UID:10000049-1783416600-1783422900@currentrivercom.com
SUMMARY:Parent & Tot Playgroup
DESCRIPTION:
URL:https://currentrivercom.com/event/parent-tot-playgroup/2026-07-07/
END:VEVENT
BEGIN:VEVENT
DTSTART;TZID=America/Halifax:20260708T093000
DTEND;TZID=America/Halifax:20260708T111500
DTSTAMP:20260424T203926
CREATED:20260311T212834Z
LAST-MODIFIED:20260311T212913Z
UID:10000050-1783503000-1783509300@currentrivercom.com
SUMMARY:Parent & Tot Playgroup
DESCRIPTION:
URL:https://currentrivercom.com/event/parent-tot-playgroup/2026-07-08/
END:VEVENT
BEGIN:VEVENT
DTSTART;TZID=America/Halifax:20260709T090000
DTEND;TZID=America/Halifax:20260709T104500
DTSTAMP:20260424T203926
CREATED:20260311T215459Z
LAST-MODIFIED:20260311T215459Z
UID:10000208-1783587600-1783593900@currentrivercom.com
SUMMARY:Parent & Tot Playgroup
DESCRIPTION:
URL:https://currentrivercom.com/event/parent-tot-playgroup-2/2026-07-09/
END:VEVENT
BEGIN:VEVENT
DTSTART;TZID=America/Halifax:20260713T093000
DTEND;TZID=America/Halifax:20260713T111500
DTSTAMP:20260424T203926
CREATED:20260311T212834Z
LAST-MODIFIED:20260311T212913Z
UID:10000051-1783935000-1783941300@currentrivercom.com
SUMMARY:Parent & Tot Playgroup
DESCRIPTION:
URL:https://currentrivercom.com/event/parent-tot-playgroup/2026-07-13/
END:VEVENT
BEGIN:VEVENT
DTSTART;TZID=America/Halifax:20260714T093000
DTEND;TZID=America/Halifax:20260714T111500
DTSTAMP:20260424T203926
CREATED:20260311T212834Z
LAST-MODIFIED:20260311T212913Z
UID:10000052-1784021400-1784027700@currentrivercom.com
SUMMARY:Parent & Tot Playgroup
DESCRIPTION:
URL:https://currentrivercom.com/event/parent-tot-playgroup/2026-07-14/
END:VEVENT
BEGIN:VEVENT
DTSTART;TZID=America/Halifax:20260715T093000
DTEND;TZID=America/Halifax:20260715T111500
DTSTAMP:20260424T203926
CREATED:20260311T212834Z
LAST-MODIFIED:20260311T212913Z
UID:10000053-1784107800-1784114100@currentrivercom.com
SUMMARY:Parent & Tot Playgroup
DESCRIPTION:
URL:https://currentrivercom.com/event/parent-tot-playgroup/2026-07-15/
END:VEVENT
BEGIN:VEVENT
DTSTART;TZID=America/Halifax:20260716T090000
DTEND;TZID=America/Halifax:20260716T104500
DTSTAMP:20260424T203926
CREATED:20260311T215459Z
LAST-MODIFIED:20260311T215459Z
UID:10000209-1784192400-1784198700@currentrivercom.com
SUMMARY:Parent & Tot Playgroup
DESCRIPTION:
URL:https://currentrivercom.com/event/parent-tot-playgroup-2/2026-07-16/
END:VEVENT
BEGIN:VEVENT
DTSTART;TZID=America/Halifax:20260720T093000
DTEND;TZID=America/Halifax:20260720T111500
DTSTAMP:20260424T203926
CREATED:20260311T212834Z
LAST-MODIFIED:20260311T212913Z
UID:10000054-1784539800-1784546100@currentrivercom.com
SUMMARY:Parent & Tot Playgroup
DESCRIPTION:
URL:https://currentrivercom.com/event/parent-tot-playgroup/2026-07-20/
END:VEVENT
BEGIN:VEVENT
DTSTART;TZID=America/Halifax:20260721T093000
DTEND;TZID=America/Halifax:20260721T111500
DTSTAMP:20260424T203926
CREATED:20260311T212834Z
LAST-MODIFIED:20260311T212913Z
UID:10000055-1784626200-1784632500@currentrivercom.com
SUMMARY:Parent & Tot Playgroup
DESCRIPTION:
URL:https://currentrivercom.com/event/parent-tot-playgroup/2026-07-21/
END:VEVENT
BEGIN:VEVENT
DTSTART;TZID=America/Halifax:20260722T093000
DTEND;TZID=America/Halifax:20260722T111500
DTSTAMP:20260424T203926
CREATED:20260311T212834Z
LAST-MODIFIED:20260311T212913Z
UID:10000056-1784712600-1784718900@currentrivercom.com
SUMMARY:Parent & Tot Playgroup
DESCRIPTION:
URL:https://currentrivercom.com/event/parent-tot-playgroup/2026-07-22/
END:VEVENT
BEGIN:VEVENT
DTSTART;TZID=America/Halifax:20260723T090000
DTEND;TZID=America/Halifax:20260723T104500
DTSTAMP:20260424T203926
CREATED:20260311T215459Z
LAST-MODIFIED:20260311T215459Z
UID:10000210-1784797200-1784803500@currentrivercom.com
SUMMARY:Parent & Tot Playgroup
DESCRIPTION:
URL:https://currentrivercom.com/event/parent-tot-playgroup-2/2026-07-23/
END:VEVENT
BEGIN:VEVENT
DTSTART;TZID=America/Halifax:20260727T093000
DTEND;TZID=America/Halifax:20260727T111500
DTSTAMP:20260424T203926
CREATED:20260311T212834Z
LAST-MODIFIED:20260311T212913Z
UID:10000057-1785144600-1785150900@currentrivercom.com
SUMMARY:Parent & Tot Playgroup
DESCRIPTION:
URL:https://currentrivercom.com/event/parent-tot-playgroup/2026-07-27/
END:VEVENT
BEGIN:VEVENT
DTSTART;TZID=America/Halifax:20260728T093000
DTEND;TZID=America/Halifax:20260728T111500
DTSTAMP:20260424T203926
CREATED:20260311T212834Z
LAST-MODIFIED:20260311T212913Z
UID:10000058-1785231000-1785237300@currentrivercom.com
SUMMARY:Parent & Tot Playgroup
DESCRIPTION:
URL:https://currentrivercom.com/event/parent-tot-playgroup/2026-07-28/
END:VEVENT
BEGIN:VEVENT
DTSTART;TZID=America/Halifax:20260729T093000
DTEND;TZID=America/Halifax:20260729T111500
DTSTAMP:20260424T203926
CREATED:20260311T212834Z
LAST-MODIFIED:20260311T212913Z
UID:10000059-1785317400-1785323700@currentrivercom.com
SUMMARY:Parent & Tot Playgroup
DESCRIPTION:
URL:https://currentrivercom.com/event/parent-tot-playgroup/2026-07-29/
END:VEVENT
BEGIN:VEVENT
DTSTART;TZID=America/Halifax:20260730T090000
DTEND;TZID=America/Halifax:20260730T104500
DTSTAMP:20260424T203926
CREATED:20260311T215459Z
LAST-MODIFIED:20260311T215459Z
UID:10000211-1785402000-1785408300@currentrivercom.com
SUMMARY:Parent & Tot Playgroup
DESCRIPTION:
URL:https://currentrivercom.com/event/parent-tot-playgroup-2/2026-07-30/
END:VEVENT
BEGIN:VEVENT
DTSTART;TZID=America/Halifax:20260803T093000
DTEND;TZID=America/Halifax:20260803T111500
DTSTAMP:20260424T203926
CREATED:20260311T212834Z
LAST-MODIFIED:20260311T212913Z
UID:10000060-1785749400-1785755700@currentrivercom.com
SUMMARY:Parent & Tot Playgroup
DESCRIPTION:
URL:https://currentrivercom.com/event/parent-tot-playgroup/2026-08-03/
END:VEVENT
BEGIN:VEVENT
DTSTART;TZID=America/Halifax:20260804T093000
DTEND;TZID=America/Halifax:20260804T111500
DTSTAMP:20260424T203926
CREATED:20260311T212834Z
LAST-MODIFIED:20260311T212913Z
UID:10000061-1785835800-1785842100@currentrivercom.com
SUMMARY:Parent & Tot Playgroup
DESCRIPTION:
URL:https://currentrivercom.com/event/parent-tot-playgroup/2026-08-04/
END:VEVENT
BEGIN:VEVENT
DTSTART;TZID=America/Halifax:20260805T093000
DTEND;TZID=America/Halifax:20260805T111500
DTSTAMP:20260424T203926
CREATED:20260311T212834Z
LAST-MODIFIED:20260311T212913Z
UID:10000062-1785922200-1785928500@currentrivercom.com
SUMMARY:Parent & Tot Playgroup
DESCRIPTION:
URL:https://currentrivercom.com/event/parent-tot-playgroup/2026-08-05/
END:VEVENT
BEGIN:VEVENT
DTSTART;TZID=America/Halifax:20260806T090000
DTEND;TZID=America/Halifax:20260806T104500
DTSTAMP:20260424T203926
CREATED:20260311T215459Z
LAST-MODIFIED:20260311T215459Z
UID:10000212-1786006800-1786013100@currentrivercom.com
SUMMARY:Parent & Tot Playgroup
DESCRIPTION:
URL:https://currentrivercom.com/event/parent-tot-playgroup-2/2026-08-06/
END:VEVENT
BEGIN:VEVENT
DTSTART;TZID=America/Halifax:20260810T093000
DTEND;TZID=America/Halifax:20260810T111500
DTSTAMP:20260424T203926
CREATED:20260311T212834Z
LAST-MODIFIED:20260311T212913Z
UID:10000063-1786354200-1786360500@currentrivercom.com
SUMMARY:Parent & Tot Playgroup
DESCRIPTION:
URL:https://currentrivercom.com/event/parent-tot-playgroup/2026-08-10/
END:VEVENT
BEGIN:VEVENT
DTSTART;TZID=America/Halifax:20260811T093000
DTEND;TZID=America/Halifax:20260811T111500
DTSTAMP:20260424T203926
CREATED:20260311T212834Z
LAST-MODIFIED:20260311T212913Z
UID:10000064-1786440600-1786446900@currentrivercom.com
SUMMARY:Parent & Tot Playgroup
DESCRIPTION:
URL:https://currentrivercom.com/event/parent-tot-playgroup/2026-08-11/
END:VEVENT
BEGIN:VEVENT
DTSTART;TZID=America/Halifax:20260812T093000
DTEND;TZID=America/Halifax:20260812T111500
DTSTAMP:20260424T203926
CREATED:20260311T212834Z
LAST-MODIFIED:20260311T212913Z
UID:10000065-1786527000-1786533300@currentrivercom.com
SUMMARY:Parent & Tot Playgroup
DESCRIPTION:
URL:https://currentrivercom.com/event/parent-tot-playgroup/2026-08-12/
END:VEVENT
BEGIN:VEVENT
DTSTART;TZID=America/Halifax:20260813T090000
DTEND;TZID=America/Halifax:20260813T104500
DTSTAMP:20260424T203926
CREATED:20260311T215459Z
LAST-MODIFIED:20260311T215459Z
UID:10000213-1786611600-1786617900@currentrivercom.com
SUMMARY:Parent & Tot Playgroup
DESCRIPTION:
URL:https://currentrivercom.com/event/parent-tot-playgroup-2/2026-08-13/
END:VEVENT
BEGIN:VEVENT
DTSTART;TZID=America/Halifax:20260817T093000
DTEND;TZID=America/Halifax:20260817T111500
DTSTAMP:20260424T203926
CREATED:20260311T212834Z
LAST-MODIFIED:20260311T212913Z
UID:10000066-1786959000-1786965300@currentrivercom.com
SUMMARY:Parent & Tot Playgroup
DESCRIPTION:
URL:https://currentrivercom.com/event/parent-tot-playgroup/2026-08-17/
END:VEVENT
BEGIN:VEVENT
DTSTART;TZID=America/Halifax:20260818T093000
DTEND;TZID=America/Halifax:20260818T111500
DTSTAMP:20260424T203926
CREATED:20260311T212834Z
LAST-MODIFIED:20260311T212913Z
UID:10000067-1787045400-1787051700@currentrivercom.com
SUMMARY:Parent & Tot Playgroup
DESCRIPTION:
URL:https://currentrivercom.com/event/parent-tot-playgroup/2026-08-18/
END:VEVENT
BEGIN:VEVENT
DTSTART;TZID=America/Halifax:20260819T093000
DTEND;TZID=America/Halifax:20260819T111500
DTSTAMP:20260424T203926
CREATED:20260311T212834Z
LAST-MODIFIED:20260311T212913Z
UID:10000068-1787131800-1787138100@currentrivercom.com
SUMMARY:Parent & Tot Playgroup
DESCRIPTION:
URL:https://currentrivercom.com/event/parent-tot-playgroup/2026-08-19/
END:VEVENT
BEGIN:VEVENT
DTSTART;TZID=America/Halifax:20260820T090000
DTEND;TZID=America/Halifax:20260820T104500
DTSTAMP:20260424T203926
CREATED:20260311T215459Z
LAST-MODIFIED:20260311T215459Z
UID:10000214-1787216400-1787222700@currentrivercom.com
SUMMARY:Parent & Tot Playgroup
DESCRIPTION:
URL:https://currentrivercom.com/event/parent-tot-playgroup-2/2026-08-20/
END:VEVENT
BEGIN:VEVENT
DTSTART;TZID=America/Halifax:20260824T093000
DTEND;TZID=America/Halifax:20260824T111500
DTSTAMP:20260424T203926
CREATED:20260311T212834Z
LAST-MODIFIED:20260311T212913Z
UID:10000069-1787563800-1787570100@currentrivercom.com
SUMMARY:Parent & Tot Playgroup
DESCRIPTION:
URL:https://currentrivercom.com/event/parent-tot-playgroup/2026-08-24/
END:VEVENT
END:VCALENDAR