BEGIN:VCALENDAR
VERSION:2.0
PRODID:-//Current River - ECPv6.15.20//NONSGML v1.0//EN
CALSCALE:GREGORIAN
METHOD:PUBLISH
X-ORIGINAL-URL:https://currentrivercom.com
X-WR-CALDESC:Events for Current River
REFRESH-INTERVAL;VALUE=DURATION:PT1H
X-Robots-Tag:noindex
X-PUBLISHED-TTL:PT1H
BEGIN:VTIMEZONE
TZID:America/Halifax
BEGIN:DAYLIGHT
TZOFFSETFROM:-0400
TZOFFSETTO:-0300
TZNAME:ADT
DTSTART:20250309T060000
END:DAYLIGHT
BEGIN:STANDARD
TZOFFSETFROM:-0300
TZOFFSETTO:-0400
TZNAME:AST
DTSTART:20251102T050000
END:STANDARD
BEGIN:DAYLIGHT
TZOFFSETFROM:-0400
TZOFFSETTO:-0300
TZNAME:ADT
DTSTART:20260308T060000
END:DAYLIGHT
BEGIN:STANDARD
TZOFFSETFROM:-0300
TZOFFSETTO:-0400
TZNAME:AST
DTSTART:20261101T050000
END:STANDARD
BEGIN:DAYLIGHT
TZOFFSETFROM:-0400
TZOFFSETTO:-0300
TZNAME:ADT
DTSTART:20270314T060000
END:DAYLIGHT
BEGIN:STANDARD
TZOFFSETFROM:-0300
TZOFFSETTO:-0400
TZNAME:AST
DTSTART:20271107T050000
END:STANDARD
END:VTIMEZONE
BEGIN:VEVENT
DTSTART;TZID=America/Halifax:20260512T093000
DTEND;TZID=America/Halifax:20260512T111500
DTSTAMP:20260424T145923
CREATED:20260311T212834Z
LAST-MODIFIED:20260311T212913Z
UID:10000026-1778578200-1778584500@currentrivercom.com
SUMMARY:Parent & Tot Playgroup
DESCRIPTION:
URL:https://currentrivercom.com/event/parent-tot-playgroup/2026-05-12/
END:VEVENT
BEGIN:VEVENT
DTSTART;TZID=America/Halifax:20260513T093000
DTEND;TZID=America/Halifax:20260513T111500
DTSTAMP:20260424T145923
CREATED:20260311T212834Z
LAST-MODIFIED:20260311T212913Z
UID:10000027-1778664600-1778670900@currentrivercom.com
SUMMARY:Parent & Tot Playgroup
DESCRIPTION:
URL:https://currentrivercom.com/event/parent-tot-playgroup/2026-05-13/
END:VEVENT
BEGIN:VEVENT
DTSTART;TZID=America/Halifax:20260513T130000
DTEND;TZID=America/Halifax:20260513T150000
DTSTAMP:20260424T145923
CREATED:20260423T211700Z
LAST-MODIFIED:20260423T211942Z
UID:10000285-1778677200-1778684400@currentrivercom.com
SUMMARY:Seniors' Cribbage
DESCRIPTION:
URL:https://currentrivercom.com/event/seniors-cribbage/2026-05-13/
END:VEVENT
BEGIN:VEVENT
DTSTART;TZID=America/Halifax:20260514T090000
DTEND;TZID=America/Halifax:20260514T104500
DTSTAMP:20260424T145923
CREATED:20260311T215459Z
LAST-MODIFIED:20260311T215459Z
UID:10000200-1778749200-1778755500@currentrivercom.com
SUMMARY:Parent & Tot Playgroup
DESCRIPTION:
URL:https://currentrivercom.com/event/parent-tot-playgroup-2/2026-05-14/
END:VEVENT
BEGIN:VEVENT
DTSTART;VALUE=DATE:20260516
DTEND;VALUE=DATE:20260519
DTSTAMP:20260424T145923
CREATED:20260311T220449Z
LAST-MODIFIED:20260311T220449Z
UID:10000260-1778889600-1779148799@currentrivercom.com
SUMMARY:Centre Closed
DESCRIPTION:
URL:https://currentrivercom.com/event/centre-closed-2/
END:VEVENT
BEGIN:VEVENT
DTSTART;TZID=America/Halifax:20260519T093000
DTEND;TZID=America/Halifax:20260519T111500
DTSTAMP:20260424T145923
CREATED:20260311T212834Z
LAST-MODIFIED:20260311T212913Z
UID:10000028-1779183000-1779189300@currentrivercom.com
SUMMARY:Parent & Tot Playgroup
DESCRIPTION:
URL:https://currentrivercom.com/event/parent-tot-playgroup/2026-05-19/
END:VEVENT
BEGIN:VEVENT
DTSTART;TZID=America/Halifax:20260520T093000
DTEND;TZID=America/Halifax:20260520T111500
DTSTAMP:20260424T145923
CREATED:20260311T212834Z
LAST-MODIFIED:20260311T212913Z
UID:10000029-1779269400-1779275700@currentrivercom.com
SUMMARY:Parent & Tot Playgroup
DESCRIPTION:
URL:https://currentrivercom.com/event/parent-tot-playgroup/2026-05-20/
END:VEVENT
BEGIN:VEVENT
DTSTART;TZID=America/Halifax:20260520T130000
DTEND;TZID=America/Halifax:20260520T150000
DTSTAMP:20260424T145923
CREATED:20260423T211700Z
LAST-MODIFIED:20260423T211942Z
UID:10000286-1779282000-1779289200@currentrivercom.com
SUMMARY:Seniors' Cribbage
DESCRIPTION:
URL:https://currentrivercom.com/event/seniors-cribbage/2026-05-20/
END:VEVENT
BEGIN:VEVENT
DTSTART;TZID=America/Halifax:20260521T090000
DTEND;TZID=America/Halifax:20260521T104500
DTSTAMP:20260424T145923
CREATED:20260311T215459Z
LAST-MODIFIED:20260311T215459Z
UID:10000201-1779354000-1779360300@currentrivercom.com
SUMMARY:Parent & Tot Playgroup
DESCRIPTION:
URL:https://currentrivercom.com/event/parent-tot-playgroup-2/2026-05-21/
END:VEVENT
BEGIN:VEVENT
DTSTART;TZID=America/Halifax:20260525T093000
DTEND;TZID=America/Halifax:20260525T111500
DTSTAMP:20260424T145923
CREATED:20260311T212834Z
LAST-MODIFIED:20260311T212913Z
UID:10000030-1779701400-1779707700@currentrivercom.com
SUMMARY:Parent & Tot Playgroup
DESCRIPTION:
URL:https://currentrivercom.com/event/parent-tot-playgroup/2026-05-25/
END:VEVENT
BEGIN:VEVENT
DTSTART;TZID=America/Halifax:20260526T093000
DTEND;TZID=America/Halifax:20260526T111500
DTSTAMP:20260424T145923
CREATED:20260311T212834Z
LAST-MODIFIED:20260311T212913Z
UID:10000031-1779787800-1779794100@currentrivercom.com
SUMMARY:Parent & Tot Playgroup
DESCRIPTION:
URL:https://currentrivercom.com/event/parent-tot-playgroup/2026-05-26/
END:VEVENT
BEGIN:VEVENT
DTSTART;TZID=America/Halifax:20260526T130000
DTEND;TZID=America/Halifax:20260526T170000
DTSTAMP:20260424T145923
CREATED:20260414T214019Z
LAST-MODIFIED:20260414T214019Z
UID:10000276-1779800400-1779814800@currentrivercom.com
SUMMARY:Superior Shores Bingo
DESCRIPTION:Come to Superior Shores Gaming Association for Bingo fun hosted by volunteers from the Current River Recreation Association! Our organization receives a portion of proceeds to put towards our children’s sports programs. \nWant to find out how to volunteer? Email us\, and we will be thrilled to get you started!
URL:https://currentrivercom.com/event/superior-shores-bingo/2026-05-26/
LOCATION:Superior Shores Gaming Association\, 435 Memorial Ave\, Thunder Bay\, Ontario\, P7B 3Y6\, Canada
END:VEVENT
BEGIN:VEVENT
DTSTART;TZID=America/Halifax:20260527T093000
DTEND;TZID=America/Halifax:20260527T111500
DTSTAMP:20260424T145923
CREATED:20260311T212834Z
LAST-MODIFIED:20260311T212913Z
UID:10000032-1779874200-1779880500@currentrivercom.com
SUMMARY:Parent & Tot Playgroup
DESCRIPTION:
URL:https://currentrivercom.com/event/parent-tot-playgroup/2026-05-27/
END:VEVENT
BEGIN:VEVENT
DTSTART;TZID=America/Halifax:20260527T130000
DTEND;TZID=America/Halifax:20260527T150000
DTSTAMP:20260424T145923
CREATED:20260423T211700Z
LAST-MODIFIED:20260423T211942Z
UID:10000287-1779886800-1779894000@currentrivercom.com
SUMMARY:Seniors' Cribbage
DESCRIPTION:
URL:https://currentrivercom.com/event/seniors-cribbage/2026-05-27/
END:VEVENT
BEGIN:VEVENT
DTSTART;TZID=America/Halifax:20260528T090000
DTEND;TZID=America/Halifax:20260528T104500
DTSTAMP:20260424T145923
CREATED:20260311T215459Z
LAST-MODIFIED:20260311T215459Z
UID:10000202-1779958800-1779965100@currentrivercom.com
SUMMARY:Parent & Tot Playgroup
DESCRIPTION:
URL:https://currentrivercom.com/event/parent-tot-playgroup-2/2026-05-28/
END:VEVENT
BEGIN:VEVENT
DTSTART;TZID=America/Halifax:20260601T093000
DTEND;TZID=America/Halifax:20260601T111500
DTSTAMP:20260424T145923
CREATED:20260311T212834Z
LAST-MODIFIED:20260311T212913Z
UID:10000033-1780306200-1780312500@currentrivercom.com
SUMMARY:Parent & Tot Playgroup
DESCRIPTION:
URL:https://currentrivercom.com/event/parent-tot-playgroup/2026-06-01/
END:VEVENT
BEGIN:VEVENT
DTSTART;TZID=America/Halifax:20260602T093000
DTEND;TZID=America/Halifax:20260602T111500
DTSTAMP:20260424T145923
CREATED:20260311T212834Z
LAST-MODIFIED:20260311T212913Z
UID:10000034-1780392600-1780398900@currentrivercom.com
SUMMARY:Parent & Tot Playgroup
DESCRIPTION:
URL:https://currentrivercom.com/event/parent-tot-playgroup/2026-06-02/
END:VEVENT
BEGIN:VEVENT
DTSTART;TZID=America/Halifax:20260603T093000
DTEND;TZID=America/Halifax:20260603T111500
DTSTAMP:20260424T145923
CREATED:20260311T212834Z
LAST-MODIFIED:20260311T212913Z
UID:10000035-1780479000-1780485300@currentrivercom.com
SUMMARY:Parent & Tot Playgroup
DESCRIPTION:
URL:https://currentrivercom.com/event/parent-tot-playgroup/2026-06-03/
END:VEVENT
BEGIN:VEVENT
DTSTART;TZID=America/Halifax:20260603T130000
DTEND;TZID=America/Halifax:20260603T150000
DTSTAMP:20260424T145923
CREATED:20260423T211700Z
LAST-MODIFIED:20260423T211942Z
UID:10000288-1780491600-1780498800@currentrivercom.com
SUMMARY:Seniors' Cribbage
DESCRIPTION:
URL:https://currentrivercom.com/event/seniors-cribbage/2026-06-03/
END:VEVENT
BEGIN:VEVENT
DTSTART;TZID=America/Halifax:20260604T090000
DTEND;TZID=America/Halifax:20260604T104500
DTSTAMP:20260424T145923
CREATED:20260311T215459Z
LAST-MODIFIED:20260311T215459Z
UID:10000203-1780563600-1780569900@currentrivercom.com
SUMMARY:Parent & Tot Playgroup
DESCRIPTION:
URL:https://currentrivercom.com/event/parent-tot-playgroup-2/2026-06-04/
END:VEVENT
BEGIN:VEVENT
DTSTART;TZID=America/Halifax:20260608T093000
DTEND;TZID=America/Halifax:20260608T111500
DTSTAMP:20260424T145923
CREATED:20260311T212834Z
LAST-MODIFIED:20260311T212913Z
UID:10000036-1780911000-1780917300@currentrivercom.com
SUMMARY:Parent & Tot Playgroup
DESCRIPTION:
URL:https://currentrivercom.com/event/parent-tot-playgroup/2026-06-08/
END:VEVENT
BEGIN:VEVENT
DTSTART;TZID=America/Halifax:20260609T093000
DTEND;TZID=America/Halifax:20260609T111500
DTSTAMP:20260424T145923
CREATED:20260311T212834Z
LAST-MODIFIED:20260311T212913Z
UID:10000037-1780997400-1781003700@currentrivercom.com
SUMMARY:Parent & Tot Playgroup
DESCRIPTION:
URL:https://currentrivercom.com/event/parent-tot-playgroup/2026-06-09/
END:VEVENT
BEGIN:VEVENT
DTSTART;TZID=America/Halifax:20260609T130000
DTEND;TZID=America/Halifax:20260609T170000
DTSTAMP:20260424T145923
CREATED:20260414T214019Z
LAST-MODIFIED:20260414T214019Z
UID:10000277-1781010000-1781024400@currentrivercom.com
SUMMARY:Superior Shores Bingo
DESCRIPTION:Come to Superior Shores Gaming Association for Bingo fun hosted by volunteers from the Current River Recreation Association! Our organization receives a portion of proceeds to put towards our children’s sports programs. \nWant to find out how to volunteer? Email us\, and we will be thrilled to get you started!
URL:https://currentrivercom.com/event/superior-shores-bingo/2026-06-09/
LOCATION:Superior Shores Gaming Association\, 435 Memorial Ave\, Thunder Bay\, Ontario\, P7B 3Y6\, Canada
END:VEVENT
BEGIN:VEVENT
DTSTART;TZID=America/Halifax:20260610T093000
DTEND;TZID=America/Halifax:20260610T111500
DTSTAMP:20260424T145923
CREATED:20260311T212834Z
LAST-MODIFIED:20260311T212913Z
UID:10000038-1781083800-1781090100@currentrivercom.com
SUMMARY:Parent & Tot Playgroup
DESCRIPTION:
URL:https://currentrivercom.com/event/parent-tot-playgroup/2026-06-10/
END:VEVENT
BEGIN:VEVENT
DTSTART;TZID=America/Halifax:20260610T130000
DTEND;TZID=America/Halifax:20260610T150000
DTSTAMP:20260424T145923
CREATED:20260423T211700Z
LAST-MODIFIED:20260423T211942Z
UID:10000289-1781096400-1781103600@currentrivercom.com
SUMMARY:Seniors' Cribbage
DESCRIPTION:
URL:https://currentrivercom.com/event/seniors-cribbage/2026-06-10/
END:VEVENT
BEGIN:VEVENT
DTSTART;TZID=America/Halifax:20260611T090000
DTEND;TZID=America/Halifax:20260611T104500
DTSTAMP:20260424T145923
CREATED:20260311T215459Z
LAST-MODIFIED:20260311T215459Z
UID:10000204-1781168400-1781174700@currentrivercom.com
SUMMARY:Parent & Tot Playgroup
DESCRIPTION:
URL:https://currentrivercom.com/event/parent-tot-playgroup-2/2026-06-11/
END:VEVENT
BEGIN:VEVENT
DTSTART;TZID=America/Halifax:20260615T093000
DTEND;TZID=America/Halifax:20260615T111500
DTSTAMP:20260424T145923
CREATED:20260311T212834Z
LAST-MODIFIED:20260311T212913Z
UID:10000039-1781515800-1781522100@currentrivercom.com
SUMMARY:Parent & Tot Playgroup
DESCRIPTION:
URL:https://currentrivercom.com/event/parent-tot-playgroup/2026-06-15/
END:VEVENT
BEGIN:VEVENT
DTSTART;TZID=America/Halifax:20260616T093000
DTEND;TZID=America/Halifax:20260616T111500
DTSTAMP:20260424T145923
CREATED:20260311T212834Z
LAST-MODIFIED:20260311T212913Z
UID:10000040-1781602200-1781608500@currentrivercom.com
SUMMARY:Parent & Tot Playgroup
DESCRIPTION:
URL:https://currentrivercom.com/event/parent-tot-playgroup/2026-06-16/
END:VEVENT
BEGIN:VEVENT
DTSTART;TZID=America/Halifax:20260617T093000
DTEND;TZID=America/Halifax:20260617T111500
DTSTAMP:20260424T145923
CREATED:20260311T212834Z
LAST-MODIFIED:20260311T212913Z
UID:10000041-1781688600-1781694900@currentrivercom.com
SUMMARY:Parent & Tot Playgroup
DESCRIPTION:
URL:https://currentrivercom.com/event/parent-tot-playgroup/2026-06-17/
END:VEVENT
BEGIN:VEVENT
DTSTART;TZID=America/Halifax:20260617T130000
DTEND;TZID=America/Halifax:20260617T150000
DTSTAMP:20260424T145923
CREATED:20260423T211700Z
LAST-MODIFIED:20260423T211942Z
UID:10000290-1781701200-1781708400@currentrivercom.com
SUMMARY:Seniors' Cribbage
DESCRIPTION:
URL:https://currentrivercom.com/event/seniors-cribbage/2026-06-17/
END:VEVENT
END:VCALENDAR