BEGIN:VCALENDAR
VERSION:2.0
PRODID:-//Current River - ECPv6.15.20//NONSGML v1.0//EN
CALSCALE:GREGORIAN
METHOD:PUBLISH
X-ORIGINAL-URL:https://currentrivercom.com
X-WR-CALDESC:Events for Current River
REFRESH-INTERVAL;VALUE=DURATION:PT1H
X-Robots-Tag:noindex
X-PUBLISHED-TTL:PT1H
BEGIN:VTIMEZONE
TZID:America/Halifax
BEGIN:DAYLIGHT
TZOFFSETFROM:-0400
TZOFFSETTO:-0300
TZNAME:ADT
DTSTART:20260308T060000
END:DAYLIGHT
BEGIN:STANDARD
TZOFFSETFROM:-0300
TZOFFSETTO:-0400
TZNAME:AST
DTSTART:20261101T050000
END:STANDARD
BEGIN:DAYLIGHT
TZOFFSETFROM:-0400
TZOFFSETTO:-0300
TZNAME:ADT
DTSTART:20270314T060000
END:DAYLIGHT
BEGIN:STANDARD
TZOFFSETFROM:-0300
TZOFFSETTO:-0400
TZNAME:AST
DTSTART:20271107T050000
END:STANDARD
BEGIN:DAYLIGHT
TZOFFSETFROM:-0400
TZOFFSETTO:-0300
TZNAME:ADT
DTSTART:20280312T060000
END:DAYLIGHT
BEGIN:STANDARD
TZOFFSETFROM:-0300
TZOFFSETTO:-0400
TZNAME:AST
DTSTART:20281105T050000
END:STANDARD
END:VTIMEZONE
BEGIN:VEVENT
DTSTART;TZID=America/Halifax:20270517T093000
DTEND;TZID=America/Halifax:20270517T111500
DTSTAMP:20260426T011039
CREATED:20260311T212834Z
LAST-MODIFIED:20260311T212913Z
UID:10000183-1810546200-1810552500@currentrivercom.com
SUMMARY:Parent & Tot Playgroup
DESCRIPTION:
URL:https://currentrivercom.com/event/parent-tot-playgroup/2027-05-17/
END:VEVENT
BEGIN:VEVENT
DTSTART;TZID=America/Halifax:20270518T093000
DTEND;TZID=America/Halifax:20270518T111500
DTSTAMP:20260426T011039
CREATED:20260311T212834Z
LAST-MODIFIED:20260311T212913Z
UID:10000184-1810632600-1810638900@currentrivercom.com
SUMMARY:Parent & Tot Playgroup
DESCRIPTION:
URL:https://currentrivercom.com/event/parent-tot-playgroup/2027-05-18/
END:VEVENT
BEGIN:VEVENT
DTSTART;TZID=America/Halifax:20270519T093000
DTEND;TZID=America/Halifax:20270519T111500
DTSTAMP:20260426T011039
CREATED:20260311T212834Z
LAST-MODIFIED:20260311T212913Z
UID:10000185-1810719000-1810725300@currentrivercom.com
SUMMARY:Parent & Tot Playgroup
DESCRIPTION:
URL:https://currentrivercom.com/event/parent-tot-playgroup/2027-05-19/
END:VEVENT
BEGIN:VEVENT
DTSTART;TZID=America/Halifax:20270520T090000
DTEND;TZID=America/Halifax:20270520T104500
DTSTAMP:20260426T011039
CREATED:20260311T215459Z
LAST-MODIFIED:20260311T215459Z
UID:10000253-1810803600-1810809900@currentrivercom.com
SUMMARY:Parent & Tot Playgroup
DESCRIPTION:
URL:https://currentrivercom.com/event/parent-tot-playgroup-2/2027-05-20/
END:VEVENT
BEGIN:VEVENT
DTSTART;TZID=America/Halifax:20270524T093000
DTEND;TZID=America/Halifax:20270524T111500
DTSTAMP:20260426T011039
CREATED:20260311T212834Z
LAST-MODIFIED:20260311T212913Z
UID:10000186-1811151000-1811157300@currentrivercom.com
SUMMARY:Parent & Tot Playgroup
DESCRIPTION:
URL:https://currentrivercom.com/event/parent-tot-playgroup/2027-05-24/
END:VEVENT
BEGIN:VEVENT
DTSTART;TZID=America/Halifax:20270525T093000
DTEND;TZID=America/Halifax:20270525T111500
DTSTAMP:20260426T011039
CREATED:20260311T212834Z
LAST-MODIFIED:20260311T212913Z
UID:10000187-1811237400-1811243700@currentrivercom.com
SUMMARY:Parent & Tot Playgroup
DESCRIPTION:
URL:https://currentrivercom.com/event/parent-tot-playgroup/2027-05-25/
END:VEVENT
BEGIN:VEVENT
DTSTART;TZID=America/Halifax:20270526T093000
DTEND;TZID=America/Halifax:20270526T111500
DTSTAMP:20260426T011039
CREATED:20260311T212834Z
LAST-MODIFIED:20260311T212913Z
UID:10000188-1811323800-1811330100@currentrivercom.com
SUMMARY:Parent & Tot Playgroup
DESCRIPTION:
URL:https://currentrivercom.com/event/parent-tot-playgroup/2027-05-26/
END:VEVENT
BEGIN:VEVENT
DTSTART;TZID=America/Halifax:20270527T090000
DTEND;TZID=America/Halifax:20270527T104500
DTSTAMP:20260426T011039
CREATED:20260311T215459Z
LAST-MODIFIED:20260311T215459Z
UID:10000254-1811408400-1811414700@currentrivercom.com
SUMMARY:Parent & Tot Playgroup
DESCRIPTION:
URL:https://currentrivercom.com/event/parent-tot-playgroup-2/2027-05-27/
END:VEVENT
BEGIN:VEVENT
DTSTART;TZID=America/Halifax:20270531T093000
DTEND;TZID=America/Halifax:20270531T111500
DTSTAMP:20260426T011039
CREATED:20260311T212834Z
LAST-MODIFIED:20260311T212913Z
UID:10000189-1811755800-1811762100@currentrivercom.com
SUMMARY:Parent & Tot Playgroup
DESCRIPTION:
URL:https://currentrivercom.com/event/parent-tot-playgroup/2027-05-31/
END:VEVENT
BEGIN:VEVENT
DTSTART;TZID=America/Halifax:20270601T093000
DTEND;TZID=America/Halifax:20270601T111500
DTSTAMP:20260426T011039
CREATED:20260311T212834Z
LAST-MODIFIED:20260311T212913Z
UID:10000190-1811842200-1811848500@currentrivercom.com
SUMMARY:Parent & Tot Playgroup
DESCRIPTION:
URL:https://currentrivercom.com/event/parent-tot-playgroup/2027-06-01/
END:VEVENT
BEGIN:VEVENT
DTSTART;TZID=America/Halifax:20270602T093000
DTEND;TZID=America/Halifax:20270602T111500
DTSTAMP:20260426T011039
CREATED:20260311T212834Z
LAST-MODIFIED:20260311T212913Z
UID:10000191-1811928600-1811934900@currentrivercom.com
SUMMARY:Parent & Tot Playgroup
DESCRIPTION:
URL:https://currentrivercom.com/event/parent-tot-playgroup/2027-06-02/
END:VEVENT
BEGIN:VEVENT
DTSTART;TZID=America/Halifax:20270603T090000
DTEND;TZID=America/Halifax:20270603T104500
DTSTAMP:20260426T011039
CREATED:20260311T215459Z
LAST-MODIFIED:20260311T215459Z
UID:10000255-1812013200-1812019500@currentrivercom.com
SUMMARY:Parent & Tot Playgroup
DESCRIPTION:
URL:https://currentrivercom.com/event/parent-tot-playgroup-2/2027-06-03/
END:VEVENT
BEGIN:VEVENT
DTSTART;TZID=America/Halifax:20270607T093000
DTEND;TZID=America/Halifax:20270607T111500
DTSTAMP:20260426T011039
CREATED:20260311T212834Z
LAST-MODIFIED:20260311T212913Z
UID:10000192-1812360600-1812366900@currentrivercom.com
SUMMARY:Parent & Tot Playgroup
DESCRIPTION:
URL:https://currentrivercom.com/event/parent-tot-playgroup/2027-06-07/
END:VEVENT
BEGIN:VEVENT
DTSTART;TZID=America/Halifax:20270610T090000
DTEND;TZID=America/Halifax:20270610T104500
DTSTAMP:20260426T011039
CREATED:20260311T215459Z
LAST-MODIFIED:20260311T215459Z
UID:10000256-1812618000-1812624300@currentrivercom.com
SUMMARY:Parent & Tot Playgroup
DESCRIPTION:
URL:https://currentrivercom.com/event/parent-tot-playgroup-2/2027-06-10/
END:VEVENT
END:VCALENDAR