BEGIN:VCALENDAR
VERSION:2.0
PRODID:-//Current River - ECPv6.15.20//NONSGML v1.0//EN
CALSCALE:GREGORIAN
METHOD:PUBLISH
X-ORIGINAL-URL:https://currentrivercom.com
X-WR-CALDESC:Events for Current River
REFRESH-INTERVAL;VALUE=DURATION:PT1H
X-Robots-Tag:noindex
X-PUBLISHED-TTL:PT1H
BEGIN:VTIMEZONE
TZID:America/Halifax
BEGIN:DAYLIGHT
TZOFFSETFROM:-0400
TZOFFSETTO:-0300
TZNAME:ADT
DTSTART:20260308T060000
END:DAYLIGHT
BEGIN:STANDARD
TZOFFSETFROM:-0300
TZOFFSETTO:-0400
TZNAME:AST
DTSTART:20261101T050000
END:STANDARD
BEGIN:DAYLIGHT
TZOFFSETFROM:-0400
TZOFFSETTO:-0300
TZNAME:ADT
DTSTART:20270314T060000
END:DAYLIGHT
BEGIN:STANDARD
TZOFFSETFROM:-0300
TZOFFSETTO:-0400
TZNAME:AST
DTSTART:20271107T050000
END:STANDARD
BEGIN:DAYLIGHT
TZOFFSETFROM:-0400
TZOFFSETTO:-0300
TZNAME:ADT
DTSTART:20280312T060000
END:DAYLIGHT
BEGIN:STANDARD
TZOFFSETFROM:-0300
TZOFFSETTO:-0400
TZNAME:AST
DTSTART:20281105T050000
END:STANDARD
END:VTIMEZONE
BEGIN:VEVENT
DTSTART;TZID=America/Halifax:20270217T093000
DTEND;TZID=America/Halifax:20270217T111500
DTSTAMP:20260425T172719
CREATED:20260311T212834Z
LAST-MODIFIED:20260311T212913Z
UID:10000146-1802856600-1802862900@currentrivercom.com
SUMMARY:Parent & Tot Playgroup
DESCRIPTION:
URL:https://currentrivercom.com/event/parent-tot-playgroup/2027-02-17/
END:VEVENT
BEGIN:VEVENT
DTSTART;TZID=America/Halifax:20270218T090000
DTEND;TZID=America/Halifax:20270218T104500
DTSTAMP:20260425T172719
CREATED:20260311T215459Z
LAST-MODIFIED:20260311T215459Z
UID:10000240-1802941200-1802947500@currentrivercom.com
SUMMARY:Parent & Tot Playgroup
DESCRIPTION:
URL:https://currentrivercom.com/event/parent-tot-playgroup-2/2027-02-18/
END:VEVENT
BEGIN:VEVENT
DTSTART;TZID=America/Halifax:20270222T093000
DTEND;TZID=America/Halifax:20270222T111500
DTSTAMP:20260425T172719
CREATED:20260311T212834Z
LAST-MODIFIED:20260311T212913Z
UID:10000147-1803288600-1803294900@currentrivercom.com
SUMMARY:Parent & Tot Playgroup
DESCRIPTION:
URL:https://currentrivercom.com/event/parent-tot-playgroup/2027-02-22/
END:VEVENT
BEGIN:VEVENT
DTSTART;TZID=America/Halifax:20270223T093000
DTEND;TZID=America/Halifax:20270223T111500
DTSTAMP:20260425T172719
CREATED:20260311T212834Z
LAST-MODIFIED:20260311T212913Z
UID:10000148-1803375000-1803381300@currentrivercom.com
SUMMARY:Parent & Tot Playgroup
DESCRIPTION:
URL:https://currentrivercom.com/event/parent-tot-playgroup/2027-02-23/
END:VEVENT
BEGIN:VEVENT
DTSTART;TZID=America/Halifax:20270224T093000
DTEND;TZID=America/Halifax:20270224T111500
DTSTAMP:20260425T172719
CREATED:20260311T212834Z
LAST-MODIFIED:20260311T212913Z
UID:10000149-1803461400-1803467700@currentrivercom.com
SUMMARY:Parent & Tot Playgroup
DESCRIPTION:
URL:https://currentrivercom.com/event/parent-tot-playgroup/2027-02-24/
END:VEVENT
BEGIN:VEVENT
DTSTART;TZID=America/Halifax:20270225T090000
DTEND;TZID=America/Halifax:20270225T104500
DTSTAMP:20260425T172719
CREATED:20260311T215459Z
LAST-MODIFIED:20260311T215459Z
UID:10000241-1803546000-1803552300@currentrivercom.com
SUMMARY:Parent & Tot Playgroup
DESCRIPTION:
URL:https://currentrivercom.com/event/parent-tot-playgroup-2/2027-02-25/
END:VEVENT
BEGIN:VEVENT
DTSTART;TZID=America/Halifax:20270301T093000
DTEND;TZID=America/Halifax:20270301T111500
DTSTAMP:20260425T172719
CREATED:20260311T212834Z
LAST-MODIFIED:20260311T212913Z
UID:10000150-1803893400-1803899700@currentrivercom.com
SUMMARY:Parent & Tot Playgroup
DESCRIPTION:
URL:https://currentrivercom.com/event/parent-tot-playgroup/2027-03-01/
END:VEVENT
BEGIN:VEVENT
DTSTART;TZID=America/Halifax:20270302T093000
DTEND;TZID=America/Halifax:20270302T111500
DTSTAMP:20260425T172719
CREATED:20260311T212834Z
LAST-MODIFIED:20260311T212913Z
UID:10000151-1803979800-1803986100@currentrivercom.com
SUMMARY:Parent & Tot Playgroup
DESCRIPTION:
URL:https://currentrivercom.com/event/parent-tot-playgroup/2027-03-02/
END:VEVENT
BEGIN:VEVENT
DTSTART;TZID=America/Halifax:20270303T093000
DTEND;TZID=America/Halifax:20270303T111500
DTSTAMP:20260425T172719
CREATED:20260311T212834Z
LAST-MODIFIED:20260311T212913Z
UID:10000152-1804066200-1804072500@currentrivercom.com
SUMMARY:Parent & Tot Playgroup
DESCRIPTION:
URL:https://currentrivercom.com/event/parent-tot-playgroup/2027-03-03/
END:VEVENT
BEGIN:VEVENT
DTSTART;TZID=America/Halifax:20270304T090000
DTEND;TZID=America/Halifax:20270304T104500
DTSTAMP:20260425T172719
CREATED:20260311T215459Z
LAST-MODIFIED:20260311T215459Z
UID:10000242-1804150800-1804157100@currentrivercom.com
SUMMARY:Parent & Tot Playgroup
DESCRIPTION:
URL:https://currentrivercom.com/event/parent-tot-playgroup-2/2027-03-04/
END:VEVENT
BEGIN:VEVENT
DTSTART;TZID=America/Halifax:20270308T093000
DTEND;TZID=America/Halifax:20270308T111500
DTSTAMP:20260425T172719
CREATED:20260311T212834Z
LAST-MODIFIED:20260311T212913Z
UID:10000153-1804498200-1804504500@currentrivercom.com
SUMMARY:Parent & Tot Playgroup
DESCRIPTION:
URL:https://currentrivercom.com/event/parent-tot-playgroup/2027-03-08/
END:VEVENT
BEGIN:VEVENT
DTSTART;TZID=America/Halifax:20270309T093000
DTEND;TZID=America/Halifax:20270309T111500
DTSTAMP:20260425T172719
CREATED:20260311T212834Z
LAST-MODIFIED:20260311T212913Z
UID:10000154-1804584600-1804590900@currentrivercom.com
SUMMARY:Parent & Tot Playgroup
DESCRIPTION:
URL:https://currentrivercom.com/event/parent-tot-playgroup/2027-03-09/
END:VEVENT
BEGIN:VEVENT
DTSTART;TZID=America/Halifax:20270310T093000
DTEND;TZID=America/Halifax:20270310T111500
DTSTAMP:20260425T172719
CREATED:20260311T212834Z
LAST-MODIFIED:20260311T212913Z
UID:10000155-1804671000-1804677300@currentrivercom.com
SUMMARY:Parent & Tot Playgroup
DESCRIPTION:
URL:https://currentrivercom.com/event/parent-tot-playgroup/2027-03-10/
END:VEVENT
BEGIN:VEVENT
DTSTART;TZID=America/Halifax:20270311T090000
DTEND;TZID=America/Halifax:20270311T104500
DTSTAMP:20260425T172719
CREATED:20260311T215459Z
LAST-MODIFIED:20260311T215459Z
UID:10000243-1804755600-1804761900@currentrivercom.com
SUMMARY:Parent & Tot Playgroup
DESCRIPTION:
URL:https://currentrivercom.com/event/parent-tot-playgroup-2/2027-03-11/
END:VEVENT
BEGIN:VEVENT
DTSTART;TZID=America/Halifax:20270315T093000
DTEND;TZID=America/Halifax:20270315T111500
DTSTAMP:20260425T172719
CREATED:20260311T212834Z
LAST-MODIFIED:20260311T212913Z
UID:10000156-1805103000-1805109300@currentrivercom.com
SUMMARY:Parent & Tot Playgroup
DESCRIPTION:
URL:https://currentrivercom.com/event/parent-tot-playgroup/2027-03-15/
END:VEVENT
BEGIN:VEVENT
DTSTART;TZID=America/Halifax:20270316T093000
DTEND;TZID=America/Halifax:20270316T111500
DTSTAMP:20260425T172719
CREATED:20260311T212834Z
LAST-MODIFIED:20260311T212913Z
UID:10000157-1805189400-1805195700@currentrivercom.com
SUMMARY:Parent & Tot Playgroup
DESCRIPTION:
URL:https://currentrivercom.com/event/parent-tot-playgroup/2027-03-16/
END:VEVENT
BEGIN:VEVENT
DTSTART;TZID=America/Halifax:20270317T093000
DTEND;TZID=America/Halifax:20270317T111500
DTSTAMP:20260425T172719
CREATED:20260311T212834Z
LAST-MODIFIED:20260311T212913Z
UID:10000158-1805275800-1805282100@currentrivercom.com
SUMMARY:Parent & Tot Playgroup
DESCRIPTION:
URL:https://currentrivercom.com/event/parent-tot-playgroup/2027-03-17/
END:VEVENT
BEGIN:VEVENT
DTSTART;TZID=America/Halifax:20270318T090000
DTEND;TZID=America/Halifax:20270318T104500
DTSTAMP:20260425T172719
CREATED:20260311T215459Z
LAST-MODIFIED:20260311T215459Z
UID:10000244-1805360400-1805366700@currentrivercom.com
SUMMARY:Parent & Tot Playgroup
DESCRIPTION:
URL:https://currentrivercom.com/event/parent-tot-playgroup-2/2027-03-18/
END:VEVENT
BEGIN:VEVENT
DTSTART;TZID=America/Halifax:20270322T093000
DTEND;TZID=America/Halifax:20270322T111500
DTSTAMP:20260425T172719
CREATED:20260311T212834Z
LAST-MODIFIED:20260311T212913Z
UID:10000159-1805707800-1805714100@currentrivercom.com
SUMMARY:Parent & Tot Playgroup
DESCRIPTION:
URL:https://currentrivercom.com/event/parent-tot-playgroup/2027-03-22/
END:VEVENT
BEGIN:VEVENT
DTSTART;TZID=America/Halifax:20270323T093000
DTEND;TZID=America/Halifax:20270323T111500
DTSTAMP:20260425T172719
CREATED:20260311T212834Z
LAST-MODIFIED:20260311T212913Z
UID:10000160-1805794200-1805800500@currentrivercom.com
SUMMARY:Parent & Tot Playgroup
DESCRIPTION:
URL:https://currentrivercom.com/event/parent-tot-playgroup/2027-03-23/
END:VEVENT
BEGIN:VEVENT
DTSTART;TZID=America/Halifax:20270324T093000
DTEND;TZID=America/Halifax:20270324T111500
DTSTAMP:20260425T172719
CREATED:20260311T212834Z
LAST-MODIFIED:20260311T212913Z
UID:10000161-1805880600-1805886900@currentrivercom.com
SUMMARY:Parent & Tot Playgroup
DESCRIPTION:
URL:https://currentrivercom.com/event/parent-tot-playgroup/2027-03-24/
END:VEVENT
BEGIN:VEVENT
DTSTART;TZID=America/Halifax:20270325T090000
DTEND;TZID=America/Halifax:20270325T104500
DTSTAMP:20260425T172719
CREATED:20260311T215459Z
LAST-MODIFIED:20260311T215459Z
UID:10000245-1805965200-1805971500@currentrivercom.com
SUMMARY:Parent & Tot Playgroup
DESCRIPTION:
URL:https://currentrivercom.com/event/parent-tot-playgroup-2/2027-03-25/
END:VEVENT
BEGIN:VEVENT
DTSTART;TZID=America/Halifax:20270329T093000
DTEND;TZID=America/Halifax:20270329T111500
DTSTAMP:20260425T172719
CREATED:20260311T212834Z
LAST-MODIFIED:20260311T212913Z
UID:10000162-1806312600-1806318900@currentrivercom.com
SUMMARY:Parent & Tot Playgroup
DESCRIPTION:
URL:https://currentrivercom.com/event/parent-tot-playgroup/2027-03-29/
END:VEVENT
BEGIN:VEVENT
DTSTART;TZID=America/Halifax:20270330T093000
DTEND;TZID=America/Halifax:20270330T111500
DTSTAMP:20260425T172719
CREATED:20260311T212834Z
LAST-MODIFIED:20260311T212913Z
UID:10000163-1806399000-1806405300@currentrivercom.com
SUMMARY:Parent & Tot Playgroup
DESCRIPTION:
URL:https://currentrivercom.com/event/parent-tot-playgroup/2027-03-30/
END:VEVENT
BEGIN:VEVENT
DTSTART;TZID=America/Halifax:20270331T093000
DTEND;TZID=America/Halifax:20270331T111500
DTSTAMP:20260425T172719
CREATED:20260311T212834Z
LAST-MODIFIED:20260311T212913Z
UID:10000164-1806485400-1806491700@currentrivercom.com
SUMMARY:Parent & Tot Playgroup
DESCRIPTION:
URL:https://currentrivercom.com/event/parent-tot-playgroup/2027-03-31/
END:VEVENT
BEGIN:VEVENT
DTSTART;TZID=America/Halifax:20270401T090000
DTEND;TZID=America/Halifax:20270401T104500
DTSTAMP:20260425T172719
CREATED:20260311T215459Z
LAST-MODIFIED:20260311T215459Z
UID:10000246-1806570000-1806576300@currentrivercom.com
SUMMARY:Parent & Tot Playgroup
DESCRIPTION:
URL:https://currentrivercom.com/event/parent-tot-playgroup-2/2027-04-01/
END:VEVENT
BEGIN:VEVENT
DTSTART;TZID=America/Halifax:20270405T093000
DTEND;TZID=America/Halifax:20270405T111500
DTSTAMP:20260425T172719
CREATED:20260311T212834Z
LAST-MODIFIED:20260311T212913Z
UID:10000165-1806917400-1806923700@currentrivercom.com
SUMMARY:Parent & Tot Playgroup
DESCRIPTION:
URL:https://currentrivercom.com/event/parent-tot-playgroup/2027-04-05/
END:VEVENT
BEGIN:VEVENT
DTSTART;TZID=America/Halifax:20270406T093000
DTEND;TZID=America/Halifax:20270406T111500
DTSTAMP:20260425T172719
CREATED:20260311T212834Z
LAST-MODIFIED:20260311T212913Z
UID:10000166-1807003800-1807010100@currentrivercom.com
SUMMARY:Parent & Tot Playgroup
DESCRIPTION:
URL:https://currentrivercom.com/event/parent-tot-playgroup/2027-04-06/
END:VEVENT
BEGIN:VEVENT
DTSTART;TZID=America/Halifax:20270407T093000
DTEND;TZID=America/Halifax:20270407T111500
DTSTAMP:20260425T172719
CREATED:20260311T212834Z
LAST-MODIFIED:20260311T212913Z
UID:10000167-1807090200-1807096500@currentrivercom.com
SUMMARY:Parent & Tot Playgroup
DESCRIPTION:
URL:https://currentrivercom.com/event/parent-tot-playgroup/2027-04-07/
END:VEVENT
BEGIN:VEVENT
DTSTART;TZID=America/Halifax:20270408T090000
DTEND;TZID=America/Halifax:20270408T104500
DTSTAMP:20260425T172719
CREATED:20260311T215459Z
LAST-MODIFIED:20260311T215459Z
UID:10000247-1807174800-1807181100@currentrivercom.com
SUMMARY:Parent & Tot Playgroup
DESCRIPTION:
URL:https://currentrivercom.com/event/parent-tot-playgroup-2/2027-04-08/
END:VEVENT
END:VCALENDAR