BEGIN:VCALENDAR
VERSION:2.0
PRODID:-//Current River - ECPv6.15.20//NONSGML v1.0//EN
CALSCALE:GREGORIAN
METHOD:PUBLISH
X-WR-CALNAME:Current River
X-ORIGINAL-URL:https://currentrivercom.com
X-WR-CALDESC:Events for Current River
REFRESH-INTERVAL;VALUE=DURATION:PT1H
X-Robots-Tag:noindex
X-PUBLISHED-TTL:PT1H
BEGIN:VTIMEZONE
TZID:America/Halifax
BEGIN:DAYLIGHT
TZOFFSETFROM:-0400
TZOFFSETTO:-0300
TZNAME:ADT
DTSTART:20250309T060000
END:DAYLIGHT
BEGIN:STANDARD
TZOFFSETFROM:-0300
TZOFFSETTO:-0400
TZNAME:AST
DTSTART:20251102T050000
END:STANDARD
BEGIN:DAYLIGHT
TZOFFSETFROM:-0400
TZOFFSETTO:-0300
TZNAME:ADT
DTSTART:20260308T060000
END:DAYLIGHT
BEGIN:STANDARD
TZOFFSETFROM:-0300
TZOFFSETTO:-0400
TZNAME:AST
DTSTART:20261101T050000
END:STANDARD
BEGIN:DAYLIGHT
TZOFFSETFROM:-0400
TZOFFSETTO:-0300
TZNAME:ADT
DTSTART:20270314T060000
END:DAYLIGHT
BEGIN:STANDARD
TZOFFSETFROM:-0300
TZOFFSETTO:-0400
TZNAME:AST
DTSTART:20271107T050000
END:STANDARD
BEGIN:DAYLIGHT
TZOFFSETFROM:-0400
TZOFFSETTO:-0300
TZNAME:ADT
DTSTART:20280312T060000
END:DAYLIGHT
BEGIN:STANDARD
TZOFFSETFROM:-0300
TZOFFSETTO:-0400
TZNAME:AST
DTSTART:20281105T050000
END:STANDARD
END:VTIMEZONE
BEGIN:VEVENT
DTSTART;TZID=America/Halifax:20261209T093000
DTEND;TZID=America/Halifax:20261209T111500
DTSTAMP:20260425T112407
CREATED:20260311T212834Z
LAST-MODIFIED:20260311T212913Z
UID:10000116-1796808600-1796814900@currentrivercom.com
SUMMARY:Parent & Tot Playgroup
DESCRIPTION:
URL:https://currentrivercom.com/event/parent-tot-playgroup/2026-12-09/
END:VEVENT
BEGIN:VEVENT
DTSTART;TZID=America/Halifax:20261210T090000
DTEND;TZID=America/Halifax:20261210T104500
DTSTAMP:20260425T112407
CREATED:20260311T215459Z
LAST-MODIFIED:20260311T215459Z
UID:10000230-1796893200-1796899500@currentrivercom.com
SUMMARY:Parent & Tot Playgroup
DESCRIPTION:
URL:https://currentrivercom.com/event/parent-tot-playgroup-2/2026-12-10/
END:VEVENT
BEGIN:VEVENT
DTSTART;TZID=America/Halifax:20261214T093000
DTEND;TZID=America/Halifax:20261214T111500
DTSTAMP:20260425T112407
CREATED:20260311T212834Z
LAST-MODIFIED:20260311T212913Z
UID:10000117-1797240600-1797246900@currentrivercom.com
SUMMARY:Parent & Tot Playgroup
DESCRIPTION:
URL:https://currentrivercom.com/event/parent-tot-playgroup/2026-12-14/
END:VEVENT
BEGIN:VEVENT
DTSTART;TZID=America/Halifax:20261215T093000
DTEND;TZID=America/Halifax:20261215T111500
DTSTAMP:20260425T112407
CREATED:20260311T212834Z
LAST-MODIFIED:20260311T212913Z
UID:10000118-1797327000-1797333300@currentrivercom.com
SUMMARY:Parent & Tot Playgroup
DESCRIPTION:
URL:https://currentrivercom.com/event/parent-tot-playgroup/2026-12-15/
END:VEVENT
BEGIN:VEVENT
DTSTART;TZID=America/Halifax:20261216T093000
DTEND;TZID=America/Halifax:20261216T111500
DTSTAMP:20260425T112407
CREATED:20260311T212834Z
LAST-MODIFIED:20260311T212913Z
UID:10000119-1797413400-1797419700@currentrivercom.com
SUMMARY:Parent & Tot Playgroup
DESCRIPTION:
URL:https://currentrivercom.com/event/parent-tot-playgroup/2026-12-16/
END:VEVENT
BEGIN:VEVENT
DTSTART;TZID=America/Halifax:20261217T090000
DTEND;TZID=America/Halifax:20261217T104500
DTSTAMP:20260425T112407
CREATED:20260311T215459Z
LAST-MODIFIED:20260311T215459Z
UID:10000231-1797498000-1797504300@currentrivercom.com
SUMMARY:Parent & Tot Playgroup
DESCRIPTION:
URL:https://currentrivercom.com/event/parent-tot-playgroup-2/2026-12-17/
END:VEVENT
BEGIN:VEVENT
DTSTART;TZID=America/Halifax:20261221T093000
DTEND;TZID=America/Halifax:20261221T111500
DTSTAMP:20260425T112407
CREATED:20260311T212834Z
LAST-MODIFIED:20260311T212913Z
UID:10000120-1797845400-1797851700@currentrivercom.com
SUMMARY:Parent & Tot Playgroup
DESCRIPTION:
URL:https://currentrivercom.com/event/parent-tot-playgroup/2026-12-21/
END:VEVENT
BEGIN:VEVENT
DTSTART;TZID=America/Halifax:20261222T093000
DTEND;TZID=America/Halifax:20261222T111500
DTSTAMP:20260425T112407
CREATED:20260311T212834Z
LAST-MODIFIED:20260311T212913Z
UID:10000121-1797931800-1797938100@currentrivercom.com
SUMMARY:Parent & Tot Playgroup
DESCRIPTION:
URL:https://currentrivercom.com/event/parent-tot-playgroup/2026-12-22/
END:VEVENT
BEGIN:VEVENT
DTSTART;TZID=America/Halifax:20261223T093000
DTEND;TZID=America/Halifax:20261223T111500
DTSTAMP:20260425T112407
CREATED:20260311T212834Z
LAST-MODIFIED:20260311T212913Z
UID:10000122-1798018200-1798024500@currentrivercom.com
SUMMARY:Parent & Tot Playgroup
DESCRIPTION:
URL:https://currentrivercom.com/event/parent-tot-playgroup/2026-12-23/
END:VEVENT
BEGIN:VEVENT
DTSTART;TZID=America/Halifax:20261224T090000
DTEND;TZID=America/Halifax:20261224T104500
DTSTAMP:20260425T112407
CREATED:20260311T215459Z
LAST-MODIFIED:20260311T215459Z
UID:10000232-1798102800-1798109100@currentrivercom.com
SUMMARY:Parent & Tot Playgroup
DESCRIPTION:
URL:https://currentrivercom.com/event/parent-tot-playgroup-2/2026-12-24/
END:VEVENT
BEGIN:VEVENT
DTSTART;TZID=America/Halifax:20261228T093000
DTEND;TZID=America/Halifax:20261228T111500
DTSTAMP:20260425T112407
CREATED:20260311T212834Z
LAST-MODIFIED:20260311T212913Z
UID:10000123-1798450200-1798456500@currentrivercom.com
SUMMARY:Parent & Tot Playgroup
DESCRIPTION:
URL:https://currentrivercom.com/event/parent-tot-playgroup/2026-12-28/
END:VEVENT
BEGIN:VEVENT
DTSTART;TZID=America/Halifax:20261229T093000
DTEND;TZID=America/Halifax:20261229T111500
DTSTAMP:20260425T112407
CREATED:20260311T212834Z
LAST-MODIFIED:20260311T212913Z
UID:10000124-1798536600-1798542900@currentrivercom.com
SUMMARY:Parent & Tot Playgroup
DESCRIPTION:
URL:https://currentrivercom.com/event/parent-tot-playgroup/2026-12-29/
END:VEVENT
BEGIN:VEVENT
DTSTART;TZID=America/Halifax:20261230T093000
DTEND;TZID=America/Halifax:20261230T111500
DTSTAMP:20260425T112407
CREATED:20260311T212834Z
LAST-MODIFIED:20260311T212913Z
UID:10000125-1798623000-1798629300@currentrivercom.com
SUMMARY:Parent & Tot Playgroup
DESCRIPTION:
URL:https://currentrivercom.com/event/parent-tot-playgroup/2026-12-30/
END:VEVENT
BEGIN:VEVENT
DTSTART;TZID=America/Halifax:20261231T090000
DTEND;TZID=America/Halifax:20261231T104500
DTSTAMP:20260425T112407
CREATED:20260311T215459Z
LAST-MODIFIED:20260311T215459Z
UID:10000233-1798707600-1798713900@currentrivercom.com
SUMMARY:Parent & Tot Playgroup
DESCRIPTION:
URL:https://currentrivercom.com/event/parent-tot-playgroup-2/2026-12-31/
END:VEVENT
BEGIN:VEVENT
DTSTART;TZID=America/Halifax:20270104T093000
DTEND;TZID=America/Halifax:20270104T111500
DTSTAMP:20260425T112407
CREATED:20260311T212834Z
LAST-MODIFIED:20260311T212913Z
UID:10000126-1799055000-1799061300@currentrivercom.com
SUMMARY:Parent & Tot Playgroup
DESCRIPTION:
URL:https://currentrivercom.com/event/parent-tot-playgroup/2027-01-04/
END:VEVENT
BEGIN:VEVENT
DTSTART;TZID=America/Halifax:20270105T093000
DTEND;TZID=America/Halifax:20270105T111500
DTSTAMP:20260425T112407
CREATED:20260311T212834Z
LAST-MODIFIED:20260311T212913Z
UID:10000127-1799141400-1799147700@currentrivercom.com
SUMMARY:Parent & Tot Playgroup
DESCRIPTION:
URL:https://currentrivercom.com/event/parent-tot-playgroup/2027-01-05/
END:VEVENT
BEGIN:VEVENT
DTSTART;TZID=America/Halifax:20270106T093000
DTEND;TZID=America/Halifax:20270106T111500
DTSTAMP:20260425T112407
CREATED:20260311T212834Z
LAST-MODIFIED:20260311T212913Z
UID:10000128-1799227800-1799234100@currentrivercom.com
SUMMARY:Parent & Tot Playgroup
DESCRIPTION:
URL:https://currentrivercom.com/event/parent-tot-playgroup/2027-01-06/
END:VEVENT
BEGIN:VEVENT
DTSTART;TZID=America/Halifax:20270107T090000
DTEND;TZID=America/Halifax:20270107T104500
DTSTAMP:20260425T112407
CREATED:20260311T215459Z
LAST-MODIFIED:20260311T215459Z
UID:10000234-1799312400-1799318700@currentrivercom.com
SUMMARY:Parent & Tot Playgroup
DESCRIPTION:
URL:https://currentrivercom.com/event/parent-tot-playgroup-2/2027-01-07/
END:VEVENT
BEGIN:VEVENT
DTSTART;TZID=America/Halifax:20270111T093000
DTEND;TZID=America/Halifax:20270111T111500
DTSTAMP:20260425T112407
CREATED:20260311T212834Z
LAST-MODIFIED:20260311T212913Z
UID:10000129-1799659800-1799666100@currentrivercom.com
SUMMARY:Parent & Tot Playgroup
DESCRIPTION:
URL:https://currentrivercom.com/event/parent-tot-playgroup/2027-01-11/
END:VEVENT
BEGIN:VEVENT
DTSTART;TZID=America/Halifax:20270112T093000
DTEND;TZID=America/Halifax:20270112T111500
DTSTAMP:20260425T112407
CREATED:20260311T212834Z
LAST-MODIFIED:20260311T212913Z
UID:10000130-1799746200-1799752500@currentrivercom.com
SUMMARY:Parent & Tot Playgroup
DESCRIPTION:
URL:https://currentrivercom.com/event/parent-tot-playgroup/2027-01-12/
END:VEVENT
BEGIN:VEVENT
DTSTART;TZID=America/Halifax:20270113T093000
DTEND;TZID=America/Halifax:20270113T111500
DTSTAMP:20260425T112407
CREATED:20260311T212834Z
LAST-MODIFIED:20260311T212913Z
UID:10000131-1799832600-1799838900@currentrivercom.com
SUMMARY:Parent & Tot Playgroup
DESCRIPTION:
URL:https://currentrivercom.com/event/parent-tot-playgroup/2027-01-13/
END:VEVENT
BEGIN:VEVENT
DTSTART;TZID=America/Halifax:20270114T090000
DTEND;TZID=America/Halifax:20270114T104500
DTSTAMP:20260425T112407
CREATED:20260311T215459Z
LAST-MODIFIED:20260311T215459Z
UID:10000235-1799917200-1799923500@currentrivercom.com
SUMMARY:Parent & Tot Playgroup
DESCRIPTION:
URL:https://currentrivercom.com/event/parent-tot-playgroup-2/2027-01-14/
END:VEVENT
BEGIN:VEVENT
DTSTART;TZID=America/Halifax:20270118T093000
DTEND;TZID=America/Halifax:20270118T111500
DTSTAMP:20260425T112407
CREATED:20260311T212834Z
LAST-MODIFIED:20260311T212913Z
UID:10000132-1800264600-1800270900@currentrivercom.com
SUMMARY:Parent & Tot Playgroup
DESCRIPTION:
URL:https://currentrivercom.com/event/parent-tot-playgroup/2027-01-18/
END:VEVENT
BEGIN:VEVENT
DTSTART;TZID=America/Halifax:20270119T093000
DTEND;TZID=America/Halifax:20270119T111500
DTSTAMP:20260425T112407
CREATED:20260311T212834Z
LAST-MODIFIED:20260311T212913Z
UID:10000133-1800351000-1800357300@currentrivercom.com
SUMMARY:Parent & Tot Playgroup
DESCRIPTION:
URL:https://currentrivercom.com/event/parent-tot-playgroup/2027-01-19/
END:VEVENT
BEGIN:VEVENT
DTSTART;TZID=America/Halifax:20270120T093000
DTEND;TZID=America/Halifax:20270120T111500
DTSTAMP:20260425T112407
CREATED:20260311T212834Z
LAST-MODIFIED:20260311T212913Z
UID:10000134-1800437400-1800443700@currentrivercom.com
SUMMARY:Parent & Tot Playgroup
DESCRIPTION:
URL:https://currentrivercom.com/event/parent-tot-playgroup/2027-01-20/
END:VEVENT
BEGIN:VEVENT
DTSTART;TZID=America/Halifax:20270121T090000
DTEND;TZID=America/Halifax:20270121T104500
DTSTAMP:20260425T112407
CREATED:20260311T215459Z
LAST-MODIFIED:20260311T215459Z
UID:10000236-1800522000-1800528300@currentrivercom.com
SUMMARY:Parent & Tot Playgroup
DESCRIPTION:
URL:https://currentrivercom.com/event/parent-tot-playgroup-2/2027-01-21/
END:VEVENT
BEGIN:VEVENT
DTSTART;TZID=America/Halifax:20270125T093000
DTEND;TZID=America/Halifax:20270125T111500
DTSTAMP:20260425T112407
CREATED:20260311T212834Z
LAST-MODIFIED:20260311T212913Z
UID:10000135-1800869400-1800875700@currentrivercom.com
SUMMARY:Parent & Tot Playgroup
DESCRIPTION:
URL:https://currentrivercom.com/event/parent-tot-playgroup/2027-01-25/
END:VEVENT
BEGIN:VEVENT
DTSTART;TZID=America/Halifax:20270126T093000
DTEND;TZID=America/Halifax:20270126T111500
DTSTAMP:20260425T112407
CREATED:20260311T212834Z
LAST-MODIFIED:20260311T212913Z
UID:10000136-1800955800-1800962100@currentrivercom.com
SUMMARY:Parent & Tot Playgroup
DESCRIPTION:
URL:https://currentrivercom.com/event/parent-tot-playgroup/2027-01-26/
END:VEVENT
BEGIN:VEVENT
DTSTART;TZID=America/Halifax:20270127T093000
DTEND;TZID=America/Halifax:20270127T111500
DTSTAMP:20260425T112407
CREATED:20260311T212834Z
LAST-MODIFIED:20260311T212913Z
UID:10000137-1801042200-1801048500@currentrivercom.com
SUMMARY:Parent & Tot Playgroup
DESCRIPTION:
URL:https://currentrivercom.com/event/parent-tot-playgroup/2027-01-27/
END:VEVENT
BEGIN:VEVENT
DTSTART;TZID=America/Halifax:20270128T090000
DTEND;TZID=America/Halifax:20270128T104500
DTSTAMP:20260425T112407
CREATED:20260311T215459Z
LAST-MODIFIED:20260311T215459Z
UID:10000237-1801126800-1801133100@currentrivercom.com
SUMMARY:Parent & Tot Playgroup
DESCRIPTION:
URL:https://currentrivercom.com/event/parent-tot-playgroup-2/2027-01-28/
END:VEVENT
END:VCALENDAR